BEGIN:VCALENDAR
VERSION:2.0
PRODID:-//The Crossings Church St. Charles County - ECPv6.15.20//NONSGML v1.0//EN
CALSCALE:GREGORIAN
METHOD:PUBLISH
X-ORIGINAL-URL:https://www.thecrossingschurch.com
X-WR-CALDESC:Events for The Crossings Church St. Charles County
REFRESH-INTERVAL;VALUE=DURATION:PT1H
X-Robots-Tag:noindex
X-PUBLISHED-TTL:PT1H
BEGIN:VTIMEZONE
TZID:America/Chicago
BEGIN:DAYLIGHT
TZOFFSETFROM:-0600
TZOFFSETTO:-0500
TZNAME:CDT
DTSTART:20240310T080000
END:DAYLIGHT
BEGIN:STANDARD
TZOFFSETFROM:-0500
TZOFFSETTO:-0600
TZNAME:CST
DTSTART:20241103T070000
END:STANDARD
BEGIN:DAYLIGHT
TZOFFSETFROM:-0600
TZOFFSETTO:-0500
TZNAME:CDT
DTSTART:20250309T080000
END:DAYLIGHT
BEGIN:STANDARD
TZOFFSETFROM:-0500
TZOFFSETTO:-0600
TZNAME:CST
DTSTART:20251102T070000
END:STANDARD
BEGIN:DAYLIGHT
TZOFFSETFROM:-0600
TZOFFSETTO:-0500
TZNAME:CDT
DTSTART:20260308T080000
END:DAYLIGHT
BEGIN:STANDARD
TZOFFSETFROM:-0500
TZOFFSETTO:-0600
TZNAME:CST
DTSTART:20261101T070000
END:STANDARD
END:VTIMEZONE
BEGIN:VEVENT
DTSTART;TZID=America/Chicago:20250207T190000
DTEND;TZID=America/Chicago:20250209T120000
DTSTAMP:20260420T161013
CREATED:20241202T230153Z
LAST-MODIFIED:20241231T213306Z
UID:4269-1738954800-1739102400@www.thecrossingschurch.com
SUMMARY:2025 Marriage Retreat
DESCRIPTION:Location: Springheld\, IllinoisSpeakers: Jerry & Lynn Jones \n\n\n\n\n\n\n\nHotel: Wyndham Springfield City Centre King/double queen rooms available (first come\, first serve).*When reserving rooms\, the hotel will ask for a card in order to hold room (card will be held but not charged). \n\n\n\n**Ultimately payments will be made to the Crossings church through a registration link (Payment link coming soon).*Hotel cutoff date is January 23rd.Any reservations after will be based on space/rate availability by the hotel.Cancel w/o fee\, 3 days prior to stay. \n\n\n\n*Reserve room by following the link:https://bit.ly/CrossingsChurch2025 \n\n\n\nBe sure to put in correct dates for your stay.You can also reserve by calling 217-789-1530 & mentioning ‘the Crossings Marriage Retreat’ for discounted rates. \n\n\n\nRetreat Cost: $3402 night hotel stay\, conference fees\,Saturday banquet meal for 2\, morning breakfast & parking vouchers. 
URL:https://www.thecrossingschurch.com/event/2025-marriage-retreat/
LOCATION:MO
END:VEVENT
END:VCALENDAR